BEGIN:VCALENDAR
VERSION:2.0
PRODID:-//White Memorial Conservation Center - ECPv6.15.20//NONSGML v1.0//EN
CALSCALE:GREGORIAN
METHOD:PUBLISH
X-WR-CALNAME:White Memorial Conservation Center
X-ORIGINAL-URL:https://whitememorialcc.org
X-WR-CALDESC:Events for White Memorial Conservation Center
REFRESH-INTERVAL;VALUE=DURATION:PT1H
X-Robots-Tag:noindex
X-PUBLISHED-TTL:PT1H
BEGIN:VTIMEZONE
TZID:America/New_York
BEGIN:DAYLIGHT
TZOFFSETFROM:-0500
TZOFFSETTO:-0400
TZNAME:EDT
DTSTART:20250309T070000
END:DAYLIGHT
BEGIN:STANDARD
TZOFFSETFROM:-0400
TZOFFSETTO:-0500
TZNAME:EST
DTSTART:20251102T060000
END:STANDARD
BEGIN:DAYLIGHT
TZOFFSETFROM:-0500
TZOFFSETTO:-0400
TZNAME:EDT
DTSTART:20260308T070000
END:DAYLIGHT
BEGIN:STANDARD
TZOFFSETFROM:-0400
TZOFFSETTO:-0500
TZNAME:EST
DTSTART:20261101T060000
END:STANDARD
BEGIN:DAYLIGHT
TZOFFSETFROM:-0500
TZOFFSETTO:-0400
TZNAME:EDT
DTSTART:20270314T070000
END:DAYLIGHT
BEGIN:STANDARD
TZOFFSETFROM:-0400
TZOFFSETTO:-0500
TZNAME:EST
DTSTART:20271107T060000
END:STANDARD
END:VTIMEZONE
BEGIN:VEVENT
DTSTART;TZID=America/New_York:20260706T093000
DTEND;TZID=America/New_York:20260710T153000
DTSTAMP:20260421T155846
CREATED:20260128T190822Z
LAST-MODIFIED:20260415T182043Z
UID:10002170-1783330200-1783697400@whitememorialcc.org
SUMMARY:Discovery Nature Camp\, Grades 1 & 2
DESCRIPTION:Discovery Nature Camp\nJuly 6-10 OR July 13-17 (July 20-24 is SOLD OUT)\nDue to this camp’s popularity and limited space\, each child can only attend ONE week of camp.\n9:30am – 3:30pm\nFor Kids Entering Grades 1 & 2\n(no exceptions to grade level please) \nKids can join us for one week of outdoor discovery\, games\, books\, songs\, and crafts that help them learn more about the natural world around them. Our “homebase” is the beautiful\, rustic Mott-Van Winkle Classroom in White Memorial’s Main Area. We also take the kids hiking and exploring on our surrounding trails. \nMeet on the Ceder Room lawn in the Main Area. Drop-off program. Pre-registration and pre-payment are required. \nMembers: $150\, Non-members: $210. You must have a FAMILY membership to get the member rate on a children’s program\, which you can purchase at the time of registration. Financial aid is available by inquiry on a first-come\, first-served basis. Refunds will only be issued (minus a $20 service fee) upon request\, and if a cancellation is made 2 weeks in advance of the first day of the camp you’re booking. \nREGISTER HERE: https://pci.jotform.com/250505654112144/prefill/67e6aa4d6266390eaf2acd616ecf \nRegistration opens at 9am on April 1 for members and April 15 for non-members. The link will not work until 9am on April 1.
URL:https://whitememorialcc.org/event/discovery-nature-camp-grades-1-2-2/2026-07-06/
LOCATION:White Memorial
CATEGORIES:Children's Programming
ATTACH;FMTTYPE=image/jpeg:https://whitememorialcc.org/wp-content/uploads/2026/01/2024-5.jpg
END:VEVENT
BEGIN:VEVENT
DTSTART;TZID=America/New_York:20260706T093000
DTEND;TZID=America/New_York:20260710T153000
DTSTAMP:20260421T155846
CREATED:20260128T193810Z
LAST-MODIFIED:20260406T005205Z
UID:10002187-1783330200-1783697400@whitememorialcc.org
SUMMARY:Exploration Nature Camp\, Grades 3 & 4 - SOLD OUT!
DESCRIPTION:Exploration Nature Camp\nEntering Grades 3 & 4: July 6-10 OR July 13-17\nDue to this camp’s popularity and limited space\, each child can only attend ONE week of camp.\n9:30am – 3:30pm \nKids entering grades 3 & 4 can join us for a week-long session that immerses them in nature! All-day adventures will take us not only to unique parts of White Memorial property\, but also offsite to natural areas throughout northwestern CT! Activities include hiking trails\, climbing mountains\, learning to identify wildlife\, collecting rocks\, investigating aquatic life\, exploring different ecosystems\, and more. \nMeet in the A.B. Ceder Room. Drop-off program. We cannot make exceptions to the stated age range. Pre-registration and pre-payment are required. \nMembers: $180\, Non-members: $240. You must have a FAMILY membership to get the member rate on a children’s program\, which you can purchase at the time of registration. Financial aid is available by inquiry on a first-come\, first-served basis. Refunds will only be issued (minus a $20 service fee) upon request\, and if a cancellation is made 2 weeks in advance of the first day of the camp you’re booking. \nThis camp is SOLD OUT. 
URL:https://whitememorialcc.org/event/exploration-nature-camp-grades-3-4-sold-out-copy-2-2/2026-07-06/
LOCATION:White Memorial
CATEGORIES:Children's Programming
ATTACH;FMTTYPE=image/heic:https://whitememorialcc.org/wp-content/uploads/2026/01/IMG_8654-scaled.jpg
END:VEVENT
BEGIN:VEVENT
DTSTART;TZID=America/New_York:20260708T093000
DTEND;TZID=America/New_York:20260708T110000
DTSTAMP:20260421T155846
CREATED:20260128T210621Z
LAST-MODIFIED:20260417T005409Z
UID:10002198-1783503000-1783508400@whitememorialcc.org
SUMMARY:Wonder Nature Camp\, Ages 4 & 5 - SOLD OUT
DESCRIPTION:Wonder Nature Camp\nWeek 1 – Wednesday\, July 8 and Friday\, July 10\nWeek 2 – Wednesday\, July 15 and Friday\, July 17\nWeek 3 – Wednesday\, July 22 and Friday\, July 24\n9:30-11:00 am each session\nFor Ages 4 & 5\n(no exceptions to the age range\, please) \nNEW FORMAT! This class for 4 & 5 year-olds will meet twice a week during the first three full weeks of July. You will sign up by week\, with each week being comprised of one Wednesday session and one Friday session\, from 9:30-11:00am. Feel free to register your child for one\, two\, or all 3 weeks (totaling 6 sessions). Every session will feature nature-based activities appropriate for preschoolers\, such as stories\, hands-on play\, and outdoor hikes and adventures. \nMeet in the Nature Museum Children’s Corner. This is designed to be a drop-off program. However\, if parents/grandparents would like to stay\, please let us know in advance. Pre-registration and pre-payment are required. Please visit whitememorialcc.org or call 860-567-0857. Space is limited! Members: $30/week\, Non-members: $50/week. Financial aid is available by inquiry on a first-come\, first-served basis. \nYou must have a FAMILY membership to get the member rate on a children’s program\, which you can purchase at the time of registration. Financial aid is available by inquiry on a first-come\, first-served basis. Refunds will only be issued upon request\, and if a cancellation is made 48 hours in advance of the program you booked. \nThis program is now sold out. Please email carrie@whitememorialcc.org if you would like to be put on a waiting list. 
URL:https://whitememorialcc.org/event/wonder-nature-camp-ages-4-5/2026-07-08/
LOCATION:White Memorial
CATEGORIES:Children's Programming
ATTACH;FMTTYPE=image/jpeg:https://whitememorialcc.org/wp-content/uploads/2026/01/sensory-tub-2022.jpg
END:VEVENT
BEGIN:VEVENT
DTSTART;TZID=America/New_York:20260710T093000
DTEND;TZID=America/New_York:20260710T110000
DTSTAMP:20260421T155846
CREATED:20260128T210621Z
LAST-MODIFIED:20260417T005409Z
UID:10002199-1783675800-1783681200@whitememorialcc.org
SUMMARY:Wonder Nature Camp\, Ages 4 & 5 - SOLD OUT
DESCRIPTION:Wonder Nature Camp\nWeek 1 – Wednesday\, July 8 and Friday\, July 10\nWeek 2 – Wednesday\, July 15 and Friday\, July 17\nWeek 3 – Wednesday\, July 22 and Friday\, July 24\n9:30-11:00 am each session\nFor Ages 4 & 5\n(no exceptions to the age range\, please) \nNEW FORMAT! This class for 4 & 5 year-olds will meet twice a week during the first three full weeks of July. You will sign up by week\, with each week being comprised of one Wednesday session and one Friday session\, from 9:30-11:00am. Feel free to register your child for one\, two\, or all 3 weeks (totaling 6 sessions). Every session will feature nature-based activities appropriate for preschoolers\, such as stories\, hands-on play\, and outdoor hikes and adventures. \nMeet in the Nature Museum Children’s Corner. This is designed to be a drop-off program. However\, if parents/grandparents would like to stay\, please let us know in advance. Pre-registration and pre-payment are required. Please visit whitememorialcc.org or call 860-567-0857. Space is limited! Members: $30/week\, Non-members: $50/week. Financial aid is available by inquiry on a first-come\, first-served basis. \nYou must have a FAMILY membership to get the member rate on a children’s program\, which you can purchase at the time of registration. Financial aid is available by inquiry on a first-come\, first-served basis. Refunds will only be issued upon request\, and if a cancellation is made 48 hours in advance of the program you booked. \nThis program is now sold out. Please email carrie@whitememorialcc.org if you would like to be put on a waiting list. 
URL:https://whitememorialcc.org/event/wonder-nature-camp-ages-4-5/2026-07-10/
LOCATION:White Memorial
CATEGORIES:Children's Programming
ATTACH;FMTTYPE=image/jpeg:https://whitememorialcc.org/wp-content/uploads/2026/01/sensory-tub-2022.jpg
END:VEVENT
BEGIN:VEVENT
DTSTART;TZID=America/New_York:20260713T093000
DTEND;TZID=America/New_York:20260717T153000
DTSTAMP:20260421T155846
CREATED:20260128T190822Z
LAST-MODIFIED:20260415T182043Z
UID:10002171-1783935000-1784302200@whitememorialcc.org
SUMMARY:Discovery Nature Camp\, Grades 1 & 2
DESCRIPTION:Discovery Nature Camp\nJuly 6-10 OR July 13-17 (July 20-24 is SOLD OUT)\nDue to this camp’s popularity and limited space\, each child can only attend ONE week of camp.\n9:30am – 3:30pm\nFor Kids Entering Grades 1 & 2\n(no exceptions to grade level please) \nKids can join us for one week of outdoor discovery\, games\, books\, songs\, and crafts that help them learn more about the natural world around them. Our “homebase” is the beautiful\, rustic Mott-Van Winkle Classroom in White Memorial’s Main Area. We also take the kids hiking and exploring on our surrounding trails. \nMeet on the Ceder Room lawn in the Main Area. Drop-off program. Pre-registration and pre-payment are required. \nMembers: $150\, Non-members: $210. You must have a FAMILY membership to get the member rate on a children’s program\, which you can purchase at the time of registration. Financial aid is available by inquiry on a first-come\, first-served basis. Refunds will only be issued (minus a $20 service fee) upon request\, and if a cancellation is made 2 weeks in advance of the first day of the camp you’re booking. \nREGISTER HERE: https://pci.jotform.com/250505654112144/prefill/67e6aa4d6266390eaf2acd616ecf \nRegistration opens at 9am on April 1 for members and April 15 for non-members. The link will not work until 9am on April 1.
URL:https://whitememorialcc.org/event/discovery-nature-camp-grades-1-2-2/2026-07-13/
LOCATION:White Memorial
CATEGORIES:Children's Programming
ATTACH;FMTTYPE=image/jpeg:https://whitememorialcc.org/wp-content/uploads/2026/01/2024-5.jpg
END:VEVENT
BEGIN:VEVENT
DTSTART;TZID=America/New_York:20260713T093000
DTEND;TZID=America/New_York:20260717T153000
DTSTAMP:20260421T155846
CREATED:20260128T193810Z
LAST-MODIFIED:20260406T005205Z
UID:10002188-1783935000-1784302200@whitememorialcc.org
SUMMARY:Exploration Nature Camp\, Grades 3 & 4 - SOLD OUT!
DESCRIPTION:Exploration Nature Camp\nEntering Grades 3 & 4: July 6-10 OR July 13-17\nDue to this camp’s popularity and limited space\, each child can only attend ONE week of camp.\n9:30am – 3:30pm \nKids entering grades 3 & 4 can join us for a week-long session that immerses them in nature! All-day adventures will take us not only to unique parts of White Memorial property\, but also offsite to natural areas throughout northwestern CT! Activities include hiking trails\, climbing mountains\, learning to identify wildlife\, collecting rocks\, investigating aquatic life\, exploring different ecosystems\, and more. \nMeet in the A.B. Ceder Room. Drop-off program. We cannot make exceptions to the stated age range. Pre-registration and pre-payment are required. \nMembers: $180\, Non-members: $240. You must have a FAMILY membership to get the member rate on a children’s program\, which you can purchase at the time of registration. Financial aid is available by inquiry on a first-come\, first-served basis. Refunds will only be issued (minus a $20 service fee) upon request\, and if a cancellation is made 2 weeks in advance of the first day of the camp you’re booking. \nThis camp is SOLD OUT. 
URL:https://whitememorialcc.org/event/exploration-nature-camp-grades-3-4-sold-out-copy-2-2/2026-07-13/
LOCATION:White Memorial
CATEGORIES:Children's Programming
ATTACH;FMTTYPE=image/heic:https://whitememorialcc.org/wp-content/uploads/2026/01/IMG_8654-scaled.jpg
END:VEVENT
BEGIN:VEVENT
DTSTART;TZID=America/New_York:20260715T093000
DTEND;TZID=America/New_York:20260715T110000
DTSTAMP:20260421T155846
CREATED:20260128T210621Z
LAST-MODIFIED:20260417T005409Z
UID:10002200-1784107800-1784113200@whitememorialcc.org
SUMMARY:Wonder Nature Camp\, Ages 4 & 5 - SOLD OUT
DESCRIPTION:Wonder Nature Camp\nWeek 1 – Wednesday\, July 8 and Friday\, July 10\nWeek 2 – Wednesday\, July 15 and Friday\, July 17\nWeek 3 – Wednesday\, July 22 and Friday\, July 24\n9:30-11:00 am each session\nFor Ages 4 & 5\n(no exceptions to the age range\, please) \nNEW FORMAT! This class for 4 & 5 year-olds will meet twice a week during the first three full weeks of July. You will sign up by week\, with each week being comprised of one Wednesday session and one Friday session\, from 9:30-11:00am. Feel free to register your child for one\, two\, or all 3 weeks (totaling 6 sessions). Every session will feature nature-based activities appropriate for preschoolers\, such as stories\, hands-on play\, and outdoor hikes and adventures. \nMeet in the Nature Museum Children’s Corner. This is designed to be a drop-off program. However\, if parents/grandparents would like to stay\, please let us know in advance. Pre-registration and pre-payment are required. Please visit whitememorialcc.org or call 860-567-0857. Space is limited! Members: $30/week\, Non-members: $50/week. Financial aid is available by inquiry on a first-come\, first-served basis. \nYou must have a FAMILY membership to get the member rate on a children’s program\, which you can purchase at the time of registration. Financial aid is available by inquiry on a first-come\, first-served basis. Refunds will only be issued upon request\, and if a cancellation is made 48 hours in advance of the program you booked. \nThis program is now sold out. Please email carrie@whitememorialcc.org if you would like to be put on a waiting list. 
URL:https://whitememorialcc.org/event/wonder-nature-camp-ages-4-5/2026-07-15/
LOCATION:White Memorial
CATEGORIES:Children's Programming
ATTACH;FMTTYPE=image/jpeg:https://whitememorialcc.org/wp-content/uploads/2026/01/sensory-tub-2022.jpg
END:VEVENT
BEGIN:VEVENT
DTSTART;TZID=America/New_York:20260717T093000
DTEND;TZID=America/New_York:20260717T110000
DTSTAMP:20260421T155846
CREATED:20260128T210621Z
LAST-MODIFIED:20260417T005409Z
UID:10002201-1784280600-1784286000@whitememorialcc.org
SUMMARY:Wonder Nature Camp\, Ages 4 & 5 - SOLD OUT
DESCRIPTION:Wonder Nature Camp\nWeek 1 – Wednesday\, July 8 and Friday\, July 10\nWeek 2 – Wednesday\, July 15 and Friday\, July 17\nWeek 3 – Wednesday\, July 22 and Friday\, July 24\n9:30-11:00 am each session\nFor Ages 4 & 5\n(no exceptions to the age range\, please) \nNEW FORMAT! This class for 4 & 5 year-olds will meet twice a week during the first three full weeks of July. You will sign up by week\, with each week being comprised of one Wednesday session and one Friday session\, from 9:30-11:00am. Feel free to register your child for one\, two\, or all 3 weeks (totaling 6 sessions). Every session will feature nature-based activities appropriate for preschoolers\, such as stories\, hands-on play\, and outdoor hikes and adventures. \nMeet in the Nature Museum Children’s Corner. This is designed to be a drop-off program. However\, if parents/grandparents would like to stay\, please let us know in advance. Pre-registration and pre-payment are required. Please visit whitememorialcc.org or call 860-567-0857. Space is limited! Members: $30/week\, Non-members: $50/week. Financial aid is available by inquiry on a first-come\, first-served basis. \nYou must have a FAMILY membership to get the member rate on a children’s program\, which you can purchase at the time of registration. Financial aid is available by inquiry on a first-come\, first-served basis. Refunds will only be issued upon request\, and if a cancellation is made 48 hours in advance of the program you booked. \nThis program is now sold out. Please email carrie@whitememorialcc.org if you would like to be put on a waiting list. 
URL:https://whitememorialcc.org/event/wonder-nature-camp-ages-4-5/2026-07-17/
LOCATION:White Memorial
CATEGORIES:Children's Programming
ATTACH;FMTTYPE=image/jpeg:https://whitememorialcc.org/wp-content/uploads/2026/01/sensory-tub-2022.jpg
END:VEVENT
BEGIN:VEVENT
DTSTART;TZID=America/New_York:20260720T093000
DTEND;TZID=America/New_York:20260724T153000
DTSTAMP:20260421T155846
CREATED:20260128T190822Z
LAST-MODIFIED:20260415T182043Z
UID:10002172-1784539800-1784907000@whitememorialcc.org
SUMMARY:Discovery Nature Camp\, Grades 1 & 2
DESCRIPTION:Discovery Nature Camp\nJuly 6-10 OR July 13-17 (July 20-24 is SOLD OUT)\nDue to this camp’s popularity and limited space\, each child can only attend ONE week of camp.\n9:30am – 3:30pm\nFor Kids Entering Grades 1 & 2\n(no exceptions to grade level please) \nKids can join us for one week of outdoor discovery\, games\, books\, songs\, and crafts that help them learn more about the natural world around them. Our “homebase” is the beautiful\, rustic Mott-Van Winkle Classroom in White Memorial’s Main Area. We also take the kids hiking and exploring on our surrounding trails. \nMeet on the Ceder Room lawn in the Main Area. Drop-off program. Pre-registration and pre-payment are required. \nMembers: $150\, Non-members: $210. You must have a FAMILY membership to get the member rate on a children’s program\, which you can purchase at the time of registration. Financial aid is available by inquiry on a first-come\, first-served basis. Refunds will only be issued (minus a $20 service fee) upon request\, and if a cancellation is made 2 weeks in advance of the first day of the camp you’re booking. \nREGISTER HERE: https://pci.jotform.com/250505654112144/prefill/67e6aa4d6266390eaf2acd616ecf \nRegistration opens at 9am on April 1 for members and April 15 for non-members. The link will not work until 9am on April 1.
URL:https://whitememorialcc.org/event/discovery-nature-camp-grades-1-2-2/2026-07-20/
LOCATION:White Memorial
CATEGORIES:Children's Programming
ATTACH;FMTTYPE=image/jpeg:https://whitememorialcc.org/wp-content/uploads/2026/01/2024-5.jpg
END:VEVENT
BEGIN:VEVENT
DTSTART;TZID=America/New_York:20260720T093000
DTEND;TZID=America/New_York:20260724T153000
DTSTAMP:20260421T155846
CREATED:20260128T204825Z
LAST-MODIFIED:20260406T005112Z
UID:10002191-1784539800-1784907000@whitememorialcc.org
SUMMARY:Exploration Nature Camp\, Grades 5 & 6 - SOLD OUT!
DESCRIPTION:Exploration Nature Camp\nEntering Grades 5 & 6: July 20-24 OR July 27-31\nDue to this camp’s popularity and limited space\, each child can only attend ONE week of camp.\n9:30am – 3:30pm \nKids entering grades 5 & 6 can join us for a week-long session that immerses them in nature! All-day adventures will take us not only to unique parts of White Memorial property\, but also offsite to natural areas throughout northwestern CT! Activities include hiking trails\, climbing mountains\, learning to identify wildlife\, collecting rocks\, investigating aquatic life\, exploring different ecosystems\, and more. \nMeet in the A.B. Ceder Room. Drop-off program. We cannot make exceptions to the stated age range. Pre-registration and pre-payment are required. \nMembers: $180\, Non-members: $240. You must have a FAMILY membership to get the member rate on a children’s program\, which you can purchase at the time of registration. Financial aid is available by inquiry on a first-come\, first-served basis. Refunds will only be issued (minus a $20 service fee) upon request\, and if a cancellation is made 2 weeks in advance of the first day of the camp you’re booking. \nThis camp is now sold out. Please email carrie@whitememorialcc.org to be put on a waiting list for either week.
URL:https://whitememorialcc.org/event/exploration-nature-camp-grades-5-6/2026-07-20/
LOCATION:White Memorial
CATEGORIES:Children's Programming
ATTACH;FMTTYPE=image/heic:https://whitememorialcc.org/wp-content/uploads/2026/01/IMG_8926-2-scaled.jpg
END:VEVENT
BEGIN:VEVENT
DTSTART;TZID=America/New_York:20260722T093000
DTEND;TZID=America/New_York:20260722T110000
DTSTAMP:20260421T155846
CREATED:20260128T210621Z
LAST-MODIFIED:20260417T005409Z
UID:10002202-1784712600-1784718000@whitememorialcc.org
SUMMARY:Wonder Nature Camp\, Ages 4 & 5 - SOLD OUT
DESCRIPTION:Wonder Nature Camp\nWeek 1 – Wednesday\, July 8 and Friday\, July 10\nWeek 2 – Wednesday\, July 15 and Friday\, July 17\nWeek 3 – Wednesday\, July 22 and Friday\, July 24\n9:30-11:00 am each session\nFor Ages 4 & 5\n(no exceptions to the age range\, please) \nNEW FORMAT! This class for 4 & 5 year-olds will meet twice a week during the first three full weeks of July. You will sign up by week\, with each week being comprised of one Wednesday session and one Friday session\, from 9:30-11:00am. Feel free to register your child for one\, two\, or all 3 weeks (totaling 6 sessions). Every session will feature nature-based activities appropriate for preschoolers\, such as stories\, hands-on play\, and outdoor hikes and adventures. \nMeet in the Nature Museum Children’s Corner. This is designed to be a drop-off program. However\, if parents/grandparents would like to stay\, please let us know in advance. Pre-registration and pre-payment are required. Please visit whitememorialcc.org or call 860-567-0857. Space is limited! Members: $30/week\, Non-members: $50/week. Financial aid is available by inquiry on a first-come\, first-served basis. \nYou must have a FAMILY membership to get the member rate on a children’s program\, which you can purchase at the time of registration. Financial aid is available by inquiry on a first-come\, first-served basis. Refunds will only be issued upon request\, and if a cancellation is made 48 hours in advance of the program you booked. \nThis program is now sold out. Please email carrie@whitememorialcc.org if you would like to be put on a waiting list. 
URL:https://whitememorialcc.org/event/wonder-nature-camp-ages-4-5/2026-07-22/
LOCATION:White Memorial
CATEGORIES:Children's Programming
ATTACH;FMTTYPE=image/jpeg:https://whitememorialcc.org/wp-content/uploads/2026/01/sensory-tub-2022.jpg
END:VEVENT
BEGIN:VEVENT
DTSTART;TZID=America/New_York:20260724T093000
DTEND;TZID=America/New_York:20260724T110000
DTSTAMP:20260421T155846
CREATED:20260128T210621Z
LAST-MODIFIED:20260417T005409Z
UID:10002203-1784885400-1784890800@whitememorialcc.org
SUMMARY:Wonder Nature Camp\, Ages 4 & 5 - SOLD OUT
DESCRIPTION:Wonder Nature Camp\nWeek 1 – Wednesday\, July 8 and Friday\, July 10\nWeek 2 – Wednesday\, July 15 and Friday\, July 17\nWeek 3 – Wednesday\, July 22 and Friday\, July 24\n9:30-11:00 am each session\nFor Ages 4 & 5\n(no exceptions to the age range\, please) \nNEW FORMAT! This class for 4 & 5 year-olds will meet twice a week during the first three full weeks of July. You will sign up by week\, with each week being comprised of one Wednesday session and one Friday session\, from 9:30-11:00am. Feel free to register your child for one\, two\, or all 3 weeks (totaling 6 sessions). Every session will feature nature-based activities appropriate for preschoolers\, such as stories\, hands-on play\, and outdoor hikes and adventures. \nMeet in the Nature Museum Children’s Corner. This is designed to be a drop-off program. However\, if parents/grandparents would like to stay\, please let us know in advance. Pre-registration and pre-payment are required. Please visit whitememorialcc.org or call 860-567-0857. Space is limited! Members: $30/week\, Non-members: $50/week. Financial aid is available by inquiry on a first-come\, first-served basis. \nYou must have a FAMILY membership to get the member rate on a children’s program\, which you can purchase at the time of registration. Financial aid is available by inquiry on a first-come\, first-served basis. Refunds will only be issued upon request\, and if a cancellation is made 48 hours in advance of the program you booked. \nThis program is now sold out. Please email carrie@whitememorialcc.org if you would like to be put on a waiting list. 
URL:https://whitememorialcc.org/event/wonder-nature-camp-ages-4-5/2026-07-24/
LOCATION:White Memorial
CATEGORIES:Children's Programming
ATTACH;FMTTYPE=image/jpeg:https://whitememorialcc.org/wp-content/uploads/2026/01/sensory-tub-2022.jpg
END:VEVENT
BEGIN:VEVENT
DTSTART;TZID=America/New_York:20260727T093000
DTEND;TZID=America/New_York:20260731T153000
DTSTAMP:20260421T155846
CREATED:20260128T204825Z
LAST-MODIFIED:20260406T005112Z
UID:10002192-1785144600-1785511800@whitememorialcc.org
SUMMARY:Exploration Nature Camp\, Grades 5 & 6 - SOLD OUT!
DESCRIPTION:Exploration Nature Camp\nEntering Grades 5 & 6: July 20-24 OR July 27-31\nDue to this camp’s popularity and limited space\, each child can only attend ONE week of camp.\n9:30am – 3:30pm \nKids entering grades 5 & 6 can join us for a week-long session that immerses them in nature! All-day adventures will take us not only to unique parts of White Memorial property\, but also offsite to natural areas throughout northwestern CT! Activities include hiking trails\, climbing mountains\, learning to identify wildlife\, collecting rocks\, investigating aquatic life\, exploring different ecosystems\, and more. \nMeet in the A.B. Ceder Room. Drop-off program. We cannot make exceptions to the stated age range. Pre-registration and pre-payment are required. \nMembers: $180\, Non-members: $240. You must have a FAMILY membership to get the member rate on a children’s program\, which you can purchase at the time of registration. Financial aid is available by inquiry on a first-come\, first-served basis. Refunds will only be issued (minus a $20 service fee) upon request\, and if a cancellation is made 2 weeks in advance of the first day of the camp you’re booking. \nThis camp is now sold out. Please email carrie@whitememorialcc.org to be put on a waiting list for either week.
URL:https://whitememorialcc.org/event/exploration-nature-camp-grades-5-6/2026-07-27/
LOCATION:White Memorial
CATEGORIES:Children's Programming
ATTACH;FMTTYPE=image/heic:https://whitememorialcc.org/wp-content/uploads/2026/01/IMG_8926-2-scaled.jpg
END:VEVENT
BEGIN:VEVENT
DTSTART;TZID=America/New_York:20260803T093000
DTEND;TZID=America/New_York:20260807T153000
DTSTAMP:20260421T155846
CREATED:20260128T192849Z
LAST-MODIFIED:20260401T031952Z
UID:10002185-1785749400-1786116600@whitememorialcc.org
SUMMARY:Exploration Nature Camp\, Grades 7\, 8\, & 9
DESCRIPTION:Exploration Nature Camp\nEntering Grades 7-9: August 3-7\n9:30am – 3:30pm \nKids entering grades 7-9 can join us for a week-long session that immerses them in nature! All-day adventures will take us not only to unique parts of White Memorial property\, but also offsite to natural areas throughout northwestern CT! Activities include hiking trails\, climbing mountains\, learning to identify wildlife\, collecting rocks\, investigating aquatic life\, exploring different ecosystems\, and more. \nMeet in the A.B. Ceder Room. Drop-off program. We cannot make exceptions to the stated age range. Pre-registration and pre-payment are required. \nMembers: $180\, Non-members: $240. You must have a FAMILY membership to get the member rate on a children’s program\, which you can purchase at the time of registration. Financial aid is available by inquiry on a first-come\, first-served basis. Refunds will only be issued (minus a $20 service fee) upon request\, and if a cancellation is made 2 weeks in advance of the first day of the camp you’re booking. \nREGISTER HERE: https://pci.jotform.com/250775247794167/prefill/69ca85623735662145ebd9272196 \nRegistration begins at 9am on April 1 for members and April 15 for non-members. The link will not work before then.
URL:https://whitememorialcc.org/event/exploration-nature-camp-grades-7-8-9-sold-out-copy/
LOCATION:White Memorial
CATEGORIES:Children's Programming
ATTACH;FMTTYPE=image/jpeg:https://whitememorialcc.org/wp-content/uploads/2026/01/Resized_20250805_115130-2.jpeg
END:VEVENT
END:VCALENDAR